BEGIN:VCALENDAR
VERSION:2.0
PRODID:-//ThankQ CRM - ECPv4.9.5//NONSGML v1.0//EN
CALSCALE:GREGORIAN
METHOD:PUBLISH
X-WR-CALNAME:ThankQ CRM
X-ORIGINAL-URL:https://thankq.com.au
X-WR-CALDESC:Events for ThankQ CRM
BEGIN:VTIMEZONE
TZID:"UTC"
BEGIN:STANDARD
TZOFFSETFROM:+0000
TZOFFSETTO:+0000
TZNAME:UTC
DTSTART:20200101T000000
END:STANDARD
END:VTIMEZONE
BEGIN:VEVENT
DTSTART;TZID="UTC":20200609T093000
DTEND;TZID="UTC":20200609T163000
DTSTAMP:20200228T154746
CREATED:20160505T113638Z
LAST-MODIFIED:20200221T022535Z
UID:3650-1591695000-1591720200@thankq.com.au
SUMMARY:V4 Essentials
DESCRIPTION:\nEssentials has been designed to get you acquainted with various functions of thankQ so you can navigate your way around the different modules and be able to manage your contacts efficiently. \nYou will learn how to; \n\nRecord information such as extra addresses\, what mailings contacts do or do not wish to receive.\nSearch for certain information about your contacts so you can better target your mailings.\nSet yourself some tasks/reminders and get them to prompt you when they are due\, or better still synchronise them to Outlook and have Outlook prompt you.\nRecord notes\, letters and emails as well as attach files against the contacts record. On occasions you may be required to reprint receipts\, you will find out how.\nLoad contacts into mailings and log these. And of course you will want to report on the contacts in your database.\n\nThis course is also available on our online self paced learning website https://thankq.thinkific.com \nCost for face to face at North Sydney \n$480 ex gst \nPrerequisite: \n\nBasic knowledge of Windows systems\nGeneral experience using Windows programs\nBasic knowledge of Word\nBasic knowledge of Excel\n\nApproximate Duration: \n\n6 hours\n\nEnquiry and Booking \n\n  \n
URL:https://thankq.com.au/index.php/training/thankq-essentials/
LOCATION:Sydney Training Centre\, L14\, 275 Alfred St\, NORTH SYDNEY\, NSW\, 2060\, Australia
CATEGORIES:Sydney Training Centre
ORGANIZER;CN="Margaret%20Kamstra":MAILTO:training@thankQ.com.au
END:VEVENT
END:VCALENDAR