BEGIN:VCALENDAR
VERSION:2.0
PRODID:-//ThankQ CRM - ECPv4.9.5//NONSGML v1.0//EN
CALSCALE:GREGORIAN
METHOD:PUBLISH
X-WR-CALNAME:ThankQ CRM
X-ORIGINAL-URL:https://thankq.com.au
X-WR-CALDESC:Events for ThankQ CRM
BEGIN:VTIMEZONE
TZID:"UTC"
BEGIN:STANDARD
TZOFFSETFROM:+0000
TZOFFSETTO:+0000
TZNAME:UTC
DTSTART:20190101T000000
END:STANDARD
END:VTIMEZONE
BEGIN:VEVENT
DTSTART;TZID="UTC":20191128T093000
DTEND;TZID="UTC":20191128T123000
DTSTAMP:20200228T153916
CREATED:20160524T235401Z
LAST-MODIFIED:20190826T230904Z
UID:3666-1574933400-1574944200@thankq.com.au
SUMMARY:V4 Administration Webinar Pt2
DESCRIPTION:thankQ Administration \nBe introduced to utilities used to effectively manage system functions. \nYou will learn how to; \n\nCreate User Logins with access only to the areas of thankQ they require for their role.\nManage Lookup Values so only those options required in drop downs and pick lists are available.\nCreate and edit your company’s templates so information can be merged from thankQ into Word.\nCreate Personalised receipts built on conditions using Text Rules.\nLoad Power Searches into a Mailing and Segment each search and then to Link those to a Source Code for reporting.\nCreate Data Import templates and then use these to import external data into thankQ\n\n Prerequisite: \n\n  thankQ Essentials\n\nApproximate Duration: \n\n  3 hours (Part 2)\n\nEnquiry and Booking \n  \n
URL:https://thankq.com.au/index.php/training/v3-administration/
LOCATION:Online Webinar
CATEGORIES:Online Webinar
ORGANIZER;CN="Margaret%20Kamstra":MAILTO:training@thankQ.com.au
END:VEVENT
END:VCALENDAR