BEGIN:VCALENDAR
VERSION:2.0
PRODID:-//ThankQ CRM - ECPv4.9.5//NONSGML v1.0//EN
CALSCALE:GREGORIAN
METHOD:PUBLISH
X-WR-CALNAME:ThankQ CRM
X-ORIGINAL-URL:https://thankq.com.au
X-WR-CALDESC:Events for ThankQ CRM
BEGIN:VTIMEZONE
TZID:"UTC"
BEGIN:STANDARD
TZOFFSETFROM:+0000
TZOFFSETTO:+0000
TZNAME:UTC
DTSTART:20200101T000000
END:STANDARD
END:VTIMEZONE
BEGIN:VEVENT
DTSTART;TZID="UTC":20200423T093000
DTEND;TZID="UTC":20200423T123000
DTSTAMP:20260424T150320
CREATED:20181213T043130Z
LAST-MODIFIED:20190925T065028Z
UID:4195-1587634200-1587645000@thankq.com.au
SUMMARY:New Events Webinar Part 2
DESCRIPTION:thankQ V4 New Events Webinar  \nEvents – Get introduced to all aspects of event management and develop the skills to create and organise a successful event. \n\nApply Source codes to track Ticket Sales\, Donations\, Sponsors and Auction items.\nSet up an event and work through all aspects of this module\, including setting up sessions for the Event.\nAdd sub events e.g. different locations\nAdd Teams and team captains\nAdd Orders to the event contacts\nAdd Volunteers to the Event\nAssign people to structures like Tables\, Rooms etc or using structures for hiring equipment.\nAdd any costs associated with the event.\nManage bookings and payments. Bookings can be made on behalf of someone else eg Organisations may book their employees to an event.\nKnow how to add contacts to places and if necessary change these names if required\nGenerate Mailings to Contacts and/or Bookers.\nReport on different aspects of the event.\n\nPrerequisite:     \n\nthankQ Essentials\nthankQ Finance (preferred)\nCompleted Part 1 Events\n\nApproximate Duration: \n\n  3 hours\n\nEnquiry and Booking \n
URL:https://thankq.com.au/index.php/training/v3-administrator-course-2/
LOCATION:Online Webinar
CATEGORIES:Online Webinar
ORGANIZER;CN="Margaret%20Kamstra":MAILTO:training@thankQ.com.au
END:VEVENT
END:VCALENDAR