BEGIN:VCALENDAR
VERSION:2.0
PRODID:-//ThankQ CRM - ECPv4.9.5//NONSGML v1.0//EN
CALSCALE:GREGORIAN
METHOD:PUBLISH
X-WR-CALNAME:ThankQ CRM
X-ORIGINAL-URL:https://thankq.com.au
X-WR-CALDESC:Events for ThankQ CRM
BEGIN:VTIMEZONE
TZID:"UTC"
BEGIN:STANDARD
TZOFFSETFROM:+0000
TZOFFSETTO:+0000
TZNAME:UTC
DTSTART:20200101T000000
END:STANDARD
END:VTIMEZONE
BEGIN:VEVENT
DTSTART;TZID="UTC":20200714T090000
DTEND;TZID="UTC":20200714T123000
DTSTAMP:20260424T151442
CREATED:20161215T015949Z
LAST-MODIFIED:20200221T021343Z
UID:3803-1594717200-1594729800@thankq.com.au
SUMMARY:V4 Essentials Lite Webinar
DESCRIPTION:Essentials Lite has been designed for those who do not have a lot to do with the day to day contact management. \nThis course would suit those who work solely in Finance\, Events\, Major Gifts\, Bequest etc and just want to know the very basics. \n\nGet familiar with being able to add a contact and also to edit any information if required.\nLearn how to record information such as an extra address. Get to know how to subscribe or unsubscribe a contact from different types of mailings.\nYou will find out how easily it is to search for certain information about your contacts and export that information to Excel.\nIs there anything about your contacts that get captured such as dietary requirements\, donor rating etc? Find out how to add these and find them.\nSet yourself some tasks/reminders and get them to prompt you when they are due\, or better still synchronise them to Outlook and have Outlook prompt you.\nWant to write a letter or email and have this recorded on the contact’s record? You may also want to enter details of any conversations or attach a document.\nThere are times you may want to Group your contacts to be able to find them quickly to either mail or report on.\n\nThis course is equivalent to “Getting Started with the Basics” on our online self paced learning website https://thankq.thinkific.com \nCost \n$320 ex gst \nPrerequisite: \n• Basic knowledge of Windows systems\n• General experience using Windows programs\n• Basic knowledge of Word\n• Basic knowledge of Excel \nApproximate Duration: \n3.5 to 4 hours \nEnquiry and Book \n
URL:https://thankq.com.au/index.php/training/v4-essentials-lite-webinar/
LOCATION:Online Webinar
CATEGORIES:Online Webinar
ORGANIZER;CN="Margaret%20Kamstra":MAILTO:training@thankQ.com.au
END:VEVENT
END:VCALENDAR