BEGIN:VCALENDAR
VERSION:2.0
PRODID:-//ThankQ CRM - ECPv4.9.5//NONSGML v1.0//EN
CALSCALE:GREGORIAN
METHOD:PUBLISH
X-WR-CALNAME:ThankQ CRM
X-ORIGINAL-URL:https://thankq.com.au
X-WR-CALDESC:Events for ThankQ CRM
BEGIN:VTIMEZONE
TZID:"UTC"
BEGIN:STANDARD
TZOFFSETFROM:+0000
TZOFFSETTO:+0000
TZNAME:UTC
DTSTART:20200101T000000
END:STANDARD
END:VTIMEZONE
BEGIN:VEVENT
DTSTART;TZID="UTC":20200618T090000
DTEND;TZID="UTC":20200618T163000
DTSTAMP:20260424T153509
CREATED:20190301T011616Z
LAST-MODIFIED:20200221T021546Z
UID:4236-1592470800-1592497800@thankq.com.au
SUMMARY:V4 NEW Events
DESCRIPTION:This course is for the redeveloped Events with Main and Sub Events\, Orders\, Volunteers etc \n\nGet introduced to all aspects of event management and develop the skills to create and organise a successful event.\nApply Source codes to track Ticket Sales\, Donations\, Sponsors and Auction items.\nSet up an event and work through all aspects of this module\, including setting up Workshops/Buffet breakfasts or Cocktail sessions for the Event.\nSetup Sub events for different locations\nCreate Orders (requires the products to be setup under the merchandise module)\nAdd Jobs to Volunteers on the event (requires some setup under the Volunteers module)\nAlso assign people to structures like Tables\, Rooms etc or using structures for hiring equipment.\nAdd any costs/outgoings associated with the event\nManage bookings and payments. Bookings can be made on behalf of someone else eg Organisations may book their employees to an event.\nKnow how to add contacts to places and if necessary change these names if required\nGenerate Mailings to Contacts and/or Bookers.\nReport on different aspects of the event.\n\nThis course is also available on our online self paced learning website https://thankq.thinkific.com \nCost for face to face at North Sydney \n$480 ex gst \nPrerequisite: \n\nthankQ Essentials\n\nEnquiry and Booking \n
URL:https://thankq.com.au/index.php/training/v4-events-2-2-2/
LOCATION:Sydney Training Centre\, L14\, 275 Alfred St\, NORTH SYDNEY\, NSW\, 2060\, Australia
CATEGORIES:Sydney Training Centre
ORGANIZER;CN="Margaret%20Kamstra":MAILTO:training@thankQ.com.au
END:VEVENT
END:VCALENDAR