BEGIN:VCALENDAR
VERSION:2.0
PRODID:-//ThankQ CRM - ECPv4.9.5//NONSGML v1.0//EN
CALSCALE:GREGORIAN
METHOD:PUBLISH
X-WR-CALNAME:ThankQ CRM
X-ORIGINAL-URL:https://thankq.com.au
X-WR-CALDESC:Events for ThankQ CRM
BEGIN:VTIMEZONE
TZID:"UTC"
BEGIN:STANDARD
TZOFFSETFROM:+0000
TZOFFSETTO:+0000
TZNAME:UTC
DTSTART:20200101T000000
END:STANDARD
END:VTIMEZONE
BEGIN:VEVENT
DTSTART;TZID="UTC":20200408T093000
DTEND;TZID="UTC":20200408T163000
DTSTAMP:20200228T153421
CREATED:20171003T035836Z
LAST-MODIFIED:20190924T060617Z
UID:4029-1586338200-1586363400@thankq.com.au
SUMMARY:V4 Finance
DESCRIPTION:You will learn how to; \n\n    Setup codes to be able to track money received from campaigns\, events\, merchandise\, memberships\, pledges\, donations etc.\n    Understand how to create payment batches and know the different ways thankQ can process these.\n    Run batch reports and paying in slips.\n    Create a quick receipt or bulk receipts from the batches and file these under the contact records.\n    Be able to search for batches and payments.\n    Know how to reverse any dishonored payments or payments made against the wrong contact.\n    Know the difference between continuous and fixed pledges.\n    Send acknowledgement letters\, reminders etc.\n    Put pledges on hold or write down installments and/or the whole pledge.\n    Reactivate written down pledges\, add installments\, change installment dates and amounts.\n    Load all pledges that are due and how to print an end of year receipt summary.\n    Get acquainted with Finance Reporting.\n\nPrerequisite: \n\n    thankQ Essentials Lite\n    Basic knowledge of Windows systems\n    General experience using Windows programs\n    Basic knowledge of Word\n    Basic knowledge of Excel\n\nApproximate Duration: \n\n  6 hours\n\nEnquiry and Booking \n
URL:https://thankq.com.au/index.php/training/v4-finance-5-2/
LOCATION:Sydney Training Centre\, L14\, 275 Alfred St\, NORTH SYDNEY\, NSW\, 2060\, Australia
CATEGORIES:Sydney Training Centre
ORGANIZER;CN="Margaret%20Kamstra":MAILTO:training@thankQ.com.au
END:VEVENT
END:VCALENDAR