BEGIN:VCALENDAR
VERSION:2.0
PRODID:-//ThankQ CRM - ECPv4.9.5//NONSGML v1.0//EN
CALSCALE:GREGORIAN
METHOD:PUBLISH
X-WR-CALNAME:ThankQ CRM
X-ORIGINAL-URL:https://thankq.com.au
X-WR-CALDESC:Events for ThankQ CRM
BEGIN:VTIMEZONE
TZID:"UTC"
BEGIN:STANDARD
TZOFFSETFROM:+0000
TZOFFSETTO:+0000
TZNAME:UTC
DTSTART:20190101T000000
END:STANDARD
END:VTIMEZONE
BEGIN:VEVENT
DTSTART;TZID="UTC":20191112T093000
DTEND;TZID="UTC":20191112T163000
DTSTAMP:20200228T154656
CREATED:20170118T225414Z
LAST-MODIFIED:20190925T064044Z
UID:3827-1573551000-1573576200@thankq.com.au
SUMMARY:V4 Prospect & Nurture
DESCRIPTION:This module has been designed to manage Capital Campaigns and Nurture Major Donors \n\nOverview on what is required to be setup in thankQ to achieve outcomes.\nHow to add Contacts from a spreadsheet into Groups.\nHow to assign Managers to Contacts.\nHow to create an Appeal Mailing and link to Source Codes.\nHow to create Campaigns\, add Source Codes\, Giving Matrix.\nAdd Prospects one at a time or by way or searches and groups to a Campaign or to Canvassers.\nKeep track of Prospects and update their records with relevant information through Stages and Statuses.\nCreate meetings and synchronise to Outlook.\nUnderstand and create Affinity Rules so as to get a score on their engagement with your organisation\nCreate Moves Rules to analyse and group contacts by certain criteria\nVarious Reporting\n\nPrerequisite: \n• Basic knowledge of Windows systems\n• Basic knowledge of Word\n• Basic knowledge of Excel\n• thankQ Essentials Lite\nApproximate Duration: \n6 hours \nEnquiry and Book \n
URL:https://thankq.com.au/index.php/training/v4-prospect-nurture-2/
LOCATION:Sydney Training Centre\, L14\, 275 Alfred St\, NORTH SYDNEY\, NSW\, 2060\, Australia
CATEGORIES:Sydney Training Centre
ORGANIZER;CN="Margaret%20Kamstra":MAILTO:training@thankQ.com.au
END:VEVENT
END:VCALENDAR